BEGIN:VCALENDAR
VERSION:2.0
PRODID:-//Oslobygda kulturlag//kalender//NN
CALSCALE:GREGORIAN
METHOD:PUBLISH
X-WR-CALNAME:Oslobygda kulturlag
X-WR-TIMEZONE:Europe/Oslo





BEGIN:VEVENT
UID:pobb-2021-01@oslobygda.no
DTSTAMP:20260326T165343Z
DTSTART;TZID=Europe/Oslo:20211006T190000
DTEND;TZID=Europe/Oslo:20211006T234500
SUMMARY:Folkemusikkpøbb – Jam, dans & song
LOCATION:Kaffistova, kjellaren
DESCRIPTION:Gratis inngang.
END:VEVENT




BEGIN:VEVENT
UID:pobb-2021-02@oslobygda.no
DTSTAMP:20260326T165343Z
DTSTART;TZID=Europe/Oslo:20211013T190000
DTEND;TZID=Europe/Oslo:20211013T234500
SUMMARY:Folkemusikkpøbb – Jam, dans & song
LOCATION:Kaffistova, kjellaren
DESCRIPTION:Gratis inngang.
END:VEVENT




BEGIN:VEVENT
UID:pobb-2021-03@oslobygda.no
DTSTAMP:20260326T165343Z
DTSTART;TZID=Europe/Oslo:20211020T190000
DTEND;TZID=Europe/Oslo:20211020T234500
SUMMARY:Folkemusikkpøbb – Jam, dans & song
LOCATION:Kaffistova, kjellaren
DESCRIPTION:Gratis inngang.
END:VEVENT




BEGIN:VEVENT
UID:pobb-2021-04@oslobygda.no
DTSTAMP:20260326T165343Z
DTSTART;TZID=Europe/Oslo:20211027T190000
DTEND;TZID=Europe/Oslo:20211027T234500
SUMMARY:Folkemusikkpøbb – Jam, dans & song
LOCATION:Kaffistova, kjellaren
DESCRIPTION:Gratis inngang.
END:VEVENT




BEGIN:VEVENT
UID:pobb-2021-05@oslobygda.no
DTSTAMP:20260326T165343Z
DTSTART;TZID=Europe/Oslo:20211103T190000
DTEND;TZID=Europe/Oslo:20211103T234500
SUMMARY:Folkemusikkpøbb – Jam, dans & song
LOCATION:Kaffistova, kjellaren
DESCRIPTION:Gratis inngang.
END:VEVENT




BEGIN:VEVENT
UID:pobb-2021-06@oslobygda.no
DTSTAMP:20260326T165343Z
DTSTART;TZID=Europe/Oslo:20211110T190000
DTEND;TZID=Europe/Oslo:20211110T234500
SUMMARY:Folkemusikkpøbb – Jam, dans & song
LOCATION:Kaffistova, kjellaren
DESCRIPTION:Gratis inngang.
END:VEVENT




BEGIN:VEVENT
UID:pobb-2021-07@oslobygda.no
DTSTAMP:20260326T165343Z
DTSTART;TZID=Europe/Oslo:20211117T190000
DTEND;TZID=Europe/Oslo:20211117T234500
SUMMARY:Folkemusikkpøbb – Jam, dans & song
LOCATION:Kaffistova, kjellaren
DESCRIPTION:Gratis inngang.
END:VEVENT




BEGIN:VEVENT
UID:pobb-2021-08@oslobygda.no
DTSTAMP:20260326T165343Z
DTSTART;TZID=Europe/Oslo:20211124T190000
DTEND;TZID=Europe/Oslo:20211124T234500
SUMMARY:Folkemusikkpøbb – Jam, dans & song
LOCATION:Kaffistova, kjellaren
DESCRIPTION:Gratis inngang.
END:VEVENT




BEGIN:VEVENT
UID:pobb-2022-01@oslobygda.no
DTSTAMP:20260326T165343Z
DTSTART;TZID=Europe/Oslo:20220112T200000
DTEND;TZID=Europe/Oslo:20220112T234500
SUMMARY:Folkemusikkpøbb – Jam, dans & song -- AVLYST
LOCATION:Kaffistova, kjellaren
DESCRIPTION:Gratis inngang.
END:VEVENT




BEGIN:VEVENT
UID:kviss-2022-03@oslobygda.no
DTSTAMP:20260326T165343Z
DTSTART;TZID=Europe/Oslo:20220112T200000
DTEND;TZID=Europe/Oslo:20220112T220000
SUMMARY:Kviss og kaffi!
LOCATION:Kaffistova, kjellaren
DESCRIPTION:Gratis inngang. Pandemi-tiltak
END:VEVENT




BEGIN:VEVENT
UID:pobb-2022-02@oslobygda.no
DTSTAMP:20260326T165343Z
DTSTART;TZID=Europe/Oslo:20220119T200000
DTEND;TZID=Europe/Oslo:20220119T234500
SUMMARY:Folkemusikkpøbb – Jam, dans & song -- AVLYST
LOCATION:Kaffistova, kjellaren
DESCRIPTION:Gratis inngang.
END:VEVENT




BEGIN:VEVENT
UID:kviss-2022-02@oslobygda.no
DTSTAMP:20260326T165343Z
DTSTART;TZID=Europe/Oslo:20220119T200000
DTEND;TZID=Europe/Oslo:20220119T220000
SUMMARY:Pøbbkviss!
LOCATION:Kaffistova, kjellaren
DESCRIPTION:Gratis inngang. Pandemi-tiltak
END:VEVENT




BEGIN:VEVENT
UID:pobb-2022-03@oslobygda.no
DTSTAMP:20260326T165343Z
DTSTART;TZID=Europe/Oslo:20220126T200000
DTEND;TZID=Europe/Oslo:20220126T234500
SUMMARY:Folkemusikkpøbb – Jam, dans & song -- AVLYST
LOCATION:Kaffistova, kjellaren
DESCRIPTION:Gratis inngang.
END:VEVENT




BEGIN:VEVENT
UID:kviss-2022-01@oslobygda.no
DTSTAMP:20260326T165343Z
DTSTART;TZID=Europe/Oslo:20220126T200000
DTEND;TZID=Europe/Oslo:20220126T220000
SUMMARY:Pøbbkviss med Nina Losnedahl!
LOCATION:Kaffistova, kjellaren
DESCRIPTION:Gratis inngang. Pandemi-tiltak
END:VEVENT




BEGIN:VEVENT
UID:pobb-2022-04@oslobygda.no
DTSTAMP:20260326T165343Z
DTSTART;TZID=Europe/Oslo:20220202T200000
DTEND;TZID=Europe/Oslo:20220202T234500
SUMMARY:Folkemusikkpøbb – Jam, dans & song -- AVLYST
LOCATION:Kaffistova, kjellaren
DESCRIPTION:Gratis inngang.
END:VEVENT




BEGIN:VEVENT
UID:kved-2022-08@oslobygda.no
DTSTAMP:20260326T165343Z
DTSTART;TZID=Europe/Oslo:20220209T200000
DTEND;TZID=Europe/Oslo:20220209T210000
SUMMARY:Kvedarkrok 
LOCATION:Kaffistova, kjellaren
DESCRIPTION:Gratis inngang.
END:VEVENT




BEGIN:VEVENT
UID:pobb-2022-05@oslobygda.no
DTSTAMP:20260326T165343Z
DTSTART;TZID=Europe/Oslo:20220209T200000
DTEND;TZID=Europe/Oslo:20220209T234500
SUMMARY:Folkemusikkpøbb – Jam, dans & song
LOCATION:Kaffistova, kjellaren
DESCRIPTION:Gratis inngang.
END:VEVENT




BEGIN:VEVENT
UID:pobb-2022-06@oslobygda.no
DTSTAMP:20260326T165343Z
DTSTART;TZID=Europe/Oslo:20220216T200000
DTEND;TZID=Europe/Oslo:20220216T234500
SUMMARY:Folkemusikkpøbb – Jam, dans & song
LOCATION:Kaffistova, kjellaren
DESCRIPTION:Gratis inngang.
END:VEVENT




BEGIN:VEVENT
UID:pobb-2022-07@oslobygda.no
DTSTAMP:20260326T165343Z
DTSTART;TZID=Europe/Oslo:20220223T200000
DTEND;TZID=Europe/Oslo:20220223T234500
SUMMARY:Folkemusikkpøbb – Jam, dans & song
LOCATION:Kaffistova, kjellaren
DESCRIPTION:Gratis inngang.
END:VEVENT




BEGIN:VEVENT
UID:kved-2022-07@oslobygda.no
DTSTAMP:20260326T165343Z
DTSTART;TZID=Europe/Oslo:20220302T200000
DTEND;TZID=Europe/Oslo:20220302T210000
SUMMARY:Kvedarkrok 
LOCATION:Kaffistova, kjellaren
DESCRIPTION:Gratis inngang.
END:VEVENT




BEGIN:VEVENT
UID:pobb-2022-08@oslobygda.no
DTSTAMP:20260326T165343Z
DTSTART;TZID=Europe/Oslo:20220302T200000
DTEND;TZID=Europe/Oslo:20220302T234500
SUMMARY:Folkemusikkpøbb – Jam, dans & song
LOCATION:Kaffistova, kjellaren
DESCRIPTION:Gratis inngang.
END:VEVENT




BEGIN:VEVENT
UID:kved-2022-06@oslobygda.no
DTSTAMP:20260326T165343Z
DTSTART;TZID=Europe/Oslo:20220309T200000
DTEND;TZID=Europe/Oslo:20220309T210000
SUMMARY:Kvedarkrok 
LOCATION:Kaffistova, kjellaren
DESCRIPTION:Gratis inngang.
END:VEVENT




BEGIN:VEVENT
UID:pobb-2022-09@oslobygda.no
DTSTAMP:20260326T165343Z
DTSTART;TZID=Europe/Oslo:20220309T200000
DTEND;TZID=Europe/Oslo:20220309T234500
SUMMARY:Folkemusikkpøbb – Jam, dans & song
LOCATION:Kaffistova, kjellaren
DESCRIPTION:Gratis inngang.
END:VEVENT




BEGIN:VEVENT
UID:kved-2022-05@oslobygda.no
DTSTAMP:20260326T165343Z
DTSTART;TZID=Europe/Oslo:20220316T200000
DTEND;TZID=Europe/Oslo:20220316T210000
SUMMARY:Kvedarkrok 
LOCATION:Kaffistova, kjellaren
DESCRIPTION:Gratis inngang.
END:VEVENT




BEGIN:VEVENT
UID:pobb-2022-10@oslobygda.no
DTSTAMP:20260326T165343Z
DTSTART;TZID=Europe/Oslo:20220316T200000
DTEND;TZID=Europe/Oslo:20220316T234500
SUMMARY:Folkemusikkpøbb – Jam, dans & song
LOCATION:Kaffistova, kjellaren
DESCRIPTION:Gratis inngang.
END:VEVENT




BEGIN:VEVENT
UID:pobb-2022-11@oslobygda.no
DTSTAMP:20260326T165343Z
DTSTART;TZID=Europe/Oslo:20220323T200000
DTEND;TZID=Europe/Oslo:20220323T234500
SUMMARY:Folkemusikkpøbb – Jam, dans & song
LOCATION:Kaffistova, kjellaren
DESCRIPTION:Gratis inngang. Astrid Garmo er jam-vert! Støtta av SFF.
END:VEVENT




BEGIN:VEVENT
UID:pobb-2022-12@oslobygda.no
DTSTAMP:20260326T165343Z
DTSTART;TZID=Europe/Oslo:20220330T200000
DTEND;TZID=Europe/Oslo:20220330T234500
SUMMARY:Folkemusikkpøbb – Jam, dans & song
LOCATION:Kaffistova, kjellaren
DESCRIPTION:Gratis inngang. Astrid Garmo er jam-vert! Støtta av SFF.
END:VEVENT




BEGIN:VEVENT
UID:kved-2022-04@oslobygda.no
DTSTAMP:20260326T165343Z
DTSTART;TZID=Europe/Oslo:20220404T200000
DTEND;TZID=Europe/Oslo:20220404T210000
SUMMARY:Kvedarkrok 
LOCATION:Kaffistova, kjellaren
DESCRIPTION:Gratis inngang.
END:VEVENT




BEGIN:VEVENT
UID:pobb-2022-13@oslobygda.no
DTSTAMP:20260326T165343Z
DTSTART;TZID=Europe/Oslo:20220406T200000
DTEND;TZID=Europe/Oslo:20220406T234500
SUMMARY:Folkemusikkpøbb – Jam, dans & song
LOCATION:Kaffistova, kjellaren
DESCRIPTION:Gratis inngang.
END:VEVENT




BEGIN:VEVENT
UID:pobb-2022-14@oslobygda.no
DTSTAMP:20260326T165343Z
DTSTART;TZID=Europe/Oslo:20220420T200000
DTEND;TZID=Europe/Oslo:20220420T234500
SUMMARY:Folkemusikkpøbb – Jam, dans & song
LOCATION:Kaffistova, kjellaren
DESCRIPTION:Gratis inngang.
END:VEVENT




BEGIN:VEVENT
UID:kved-2022-03@oslobygda.no
DTSTAMP:20260326T165343Z
DTSTART;TZID=Europe/Oslo:20220427T200000
DTEND;TZID=Europe/Oslo:20220427T210000
SUMMARY:Kvedarkrok 
LOCATION:Kaffistova, kjellaren
DESCRIPTION:Gratis inngang.
END:VEVENT




BEGIN:VEVENT
UID:pobb-2022-15@oslobygda.no
DTSTAMP:20260326T165343Z
DTSTART;TZID=Europe/Oslo:20220427T200000
DTEND;TZID=Europe/Oslo:20220427T234500
SUMMARY:Folkemusikkpøbb – Jam, dans & song
LOCATION:Kaffistova, kjellaren
DESCRIPTION:Gratis inngang.
END:VEVENT




BEGIN:VEVENT
UID:pobb-2022-16@oslobygda.no
DTSTAMP:20260326T165343Z
DTSTART;TZID=Europe/Oslo:20220504T200000
DTEND;TZID=Europe/Oslo:20220504T234500
SUMMARY:Folkemusikkpøbb – Jam, dans & song
LOCATION:Kaffistova, kjellaren
DESCRIPTION:Gratis inngang.
END:VEVENT




BEGIN:VEVENT
UID:pobb-2022-17@oslobygda.no
DTSTAMP:20260326T165343Z
DTSTART;TZID=Europe/Oslo:20220511T200000
DTEND;TZID=Europe/Oslo:20220511T234500
SUMMARY:Folkemusikkpøbb – Jam, dans & song
LOCATION:Kaffistova, kjellaren
DESCRIPTION:Gratis inngang.
END:VEVENT




BEGIN:VEVENT
UID:pobb-2022-18@oslobygda.no
DTSTAMP:20260326T165343Z
DTSTART;TZID=Europe/Oslo:20220518T200000
DTEND;TZID=Europe/Oslo:20220518T234500
SUMMARY:Folkemusikkpøbb – Jam, dans & song
LOCATION:Kaffistova, kjellaren
DESCRIPTION:Gratis inngang.
END:VEVENT




BEGIN:VEVENT
UID:pobb-2022-19@oslobygda.no
DTSTAMP:20260326T165343Z
DTSTART;TZID=Europe/Oslo:20220525T200000
DTEND;TZID=Europe/Oslo:20220525T234500
SUMMARY:Folkemusikkpøbb – Jam, dans & song
LOCATION:Kaffistova, kjellaren
DESCRIPTION:Gratis inngang.
END:VEVENT




BEGIN:VEVENT
UID:pobb-2022-20@oslobygda.no
DTSTAMP:20260326T165343Z
DTSTART;TZID=Europe/Oslo:20220601T200000
DTEND;TZID=Europe/Oslo:20220601T234500
SUMMARY:Folkemusikkpøbb – Jam, dans & song
LOCATION:Kaffistova, kjellaren
DESCRIPTION:Gratis inngang.
END:VEVENT




BEGIN:VEVENT
UID:pobb-2022-22@oslobygda.no
DTSTAMP:20260326T165343Z
DTSTART;TZID=Europe/Oslo:20220831T210000
DTEND;TZID=Europe/Oslo:20220831T234500
SUMMARY:Folkemusikkpøbb med Snauststrinda-veteranar
LOCATION:Kaffistova, kjellaren
DESCRIPTION:Gratis inngang.
END:VEVENT




BEGIN:VEVENT
UID:pobb-2022-21@oslobygda.no
DTSTAMP:20260326T165343Z
DTSTART;TZID=Europe/Oslo:20220831T210000
DTEND;TZID=Europe/Oslo:20220831T234500
SUMMARY:Folkemusikkpøbb med Flatlusa spellemannslag
LOCATION:Kaffistova, kjellaren
DESCRIPTION:Gratis inngang.
END:VEVENT




BEGIN:VEVENT
UID:kved-2022-01@oslobygda.no
DTSTAMP:20260326T165343Z
DTSTART;TZID=Europe/Oslo:20220928T200000
DTEND;TZID=Europe/Oslo:20220928T210000
SUMMARY:Kvedarkrok 
LOCATION:Kaffistova, kjellaren
DESCRIPTION:Gratis inngang.
END:VEVENT




BEGIN:VEVENT
UID:pobb-2022-23@oslobygda.no
DTSTAMP:20260326T165343Z
DTSTART;TZID=Europe/Oslo:20221026T210000
DTEND;TZID=Europe/Oslo:20221026T234500
SUMMARY:Folkemusikkpøbb med Bærum spellemannslag
LOCATION:Kaffistova, kjellaren
DESCRIPTION:Gratis inngang.
END:VEVENT




BEGIN:VEVENT
UID:kved-2022-02@oslobygda.no
DTSTAMP:20260326T165343Z
DTSTART;TZID=Europe/Oslo:20221026T200000
DTEND;TZID=Europe/Oslo:20221026T210000
SUMMARY:Kvedarkrok 
LOCATION:Kaffistova, kjellaren
DESCRIPTION:Gratis inngang.
END:VEVENT




BEGIN:VEVENT
UID:pobb-2022-24@oslobygda.no
DTSTAMP:20260326T165343Z
DTSTART;TZID=Europe/Oslo:20221130T210000
DTEND;TZID=Europe/Oslo:20221130T234500
SUMMARY:Folkemusikkpøbb med NMH spel- og fyllarlag
LOCATION:Kaffistova, kjellaren
DESCRIPTION:Gratis inngang.
END:VEVENT




BEGIN:VEVENT
UID:pobb-2023-01@oslobygda.no
DTSTAMP:20260326T165343Z
DTSTART;TZID=Europe/Oslo:20230125T210000
DTEND;TZID=Europe/Oslo:20230125T234500
SUMMARY:Folkemusikkpøbb med Gudåmleg
LOCATION:Kaffistova, kjellaren
DESCRIPTION:Gratis inngang.
END:VEVENT




BEGIN:VEVENT
UID:pobb-2023-02@oslobygda.no
DTSTAMP:20260326T165343Z
DTSTART;TZID=Europe/Oslo:20230303T210000
DTEND;TZID=Europe/Oslo:20230303T234500
SUMMARY:Folkemusikkpøbb med NMH spel- og fyllarlag
LOCATION:Kaffistova, kjellaren
DESCRIPTION:Gratis inngang.
END:VEVENT




BEGIN:VEVENT
UID:pobb-2023-03@oslobygda.no
DTSTAMP:20260326T165343Z
DTSTART;TZID=Europe/Oslo:20230329T210000
DTEND;TZID=Europe/Oslo:20230329T234500
SUMMARY:Folkemusikkpøbb med Flatlusa spelemannslag
LOCATION:Kaffistova, kjellaren
DESCRIPTION:Gratis inngang.
END:VEVENT




BEGIN:VEVENT
UID:pobb-2023-04@oslobygda.no
DTSTAMP:20260326T165343Z
DTSTART;TZID=Europe/Oslo:20230426T210000
DTEND;TZID=Europe/Oslo:20230426T234500
SUMMARY:Folkemusikkpøbb med Bærum spellemannslag
LOCATION:Kaffistova, kjellaren
DESCRIPTION:Gratis inngang.
END:VEVENT




BEGIN:VEVENT
UID:pobb-2023-05@oslobygda.no
DTSTAMP:20260326T165343Z
DTSTART;TZID=Europe/Oslo:20230531T210000
DTEND;TZID=Europe/Oslo:20230531T234500
SUMMARY:Folkemusikkpøbb med Snaustrinda-veteranar
LOCATION:Kaffistova, kjellaren
DESCRIPTION:Gratis inngang.
END:VEVENT




BEGIN:VEVENT
UID:pobb-2023-06@oslobygda.no
DTSTAMP:20260326T165343Z
DTSTART;TZID=Europe/Oslo:20230830T210000
DTEND;TZID=Europe/Oslo:20230830T234500
SUMMARY:Folkemusikkpøbb med Flatlusa spelemannslag
LOCATION:Kaffistova, kjellaren
DESCRIPTION:Gratis inngang.
END:VEVENT




BEGIN:VEVENT
UID:pobb-2023-07@oslobygda.no
DTSTAMP:20260326T165343Z
DTSTART;TZID=Europe/Oslo:20230927T210000
DTEND;TZID=Europe/Oslo:20230927T234500
SUMMARY:Folkemusikkpøbb med Bærum spellemannslag
LOCATION:Kaffistova, kjellaren
DESCRIPTION:Gratis inngang.
END:VEVENT




BEGIN:VEVENT
UID:pobb-2023-08@oslobygda.no
DTSTAMP:20260326T165343Z
DTSTART;TZID=Europe/Oslo:20231025T210000
DTEND;TZID=Europe/Oslo:20231025T234500
SUMMARY:Folkemusikkpøbb med Gudåmleg
LOCATION:Kaffistova, kjellaren
DESCRIPTION:Gratis inngang.
END:VEVENT




BEGIN:VEVENT
UID:pobb-2023-09@oslobygda.no
DTSTAMP:20260326T165343Z
DTSTART;TZID=Europe/Oslo:20231115T210000
DTEND;TZID=Europe/Oslo:20231115T234500
SUMMARY:Folkemusikkpøbb med Snaustrinda-veteranar
LOCATION:Kaffistova, kjellaren
DESCRIPTION:Gratis inngang.
END:VEVENT




BEGIN:VEVENT
UID:pobb-2024-01@oslobygda.no
DTSTAMP:20260326T165343Z
DTSTART;TZID=Europe/Oslo:20240131T210000
DTEND;TZID=Europe/Oslo:20240131T234500
SUMMARY:Folkemusikkpøbb med spelemannstafett!
LOCATION:Kaffistova, kjellaren
DESCRIPTION:Gratis inngang. Del av DANS DANS DANS. Mattias Thedens, Ester Thunander, Åsmund Fauske, Tiril Einarsdotter og Sindre Tronrud.
END:VEVENT




BEGIN:VEVENT
UID:pobb-2024-02@oslobygda.no
DTSTAMP:20260326T165343Z
DTSTART;TZID=Europe/Oslo:20240228T210000
DTEND;TZID=Europe/Oslo:20240228T234500
SUMMARY:Folkemusikkpøbb med Østerdølenes spellmannslag
LOCATION:Kaffistova, kjellaren
DESCRIPTION:Gratis inngang.
END:VEVENT




BEGIN:VEVENT
UID:pobb-2024-03@oslobygda.no
DTSTAMP:20260326T165343Z
DTSTART;TZID=Europe/Oslo:20240320T210000
DTEND;TZID=Europe/Oslo:20240320T234500
SUMMARY:Folkemusikkpøbb med Gudbrandsdølenes spelmannslag
LOCATION:Kaffistova, kjellaren
DESCRIPTION:Gratis inngang.
END:VEVENT




BEGIN:VEVENT
UID:pobb-2024-04@oslobygda.no
DTSTAMP:20260326T165343Z
DTSTART;TZID=Europe/Oslo:20240428T210000
DTEND;TZID=Europe/Oslo:20240428T234500
SUMMARY:Folkemusikkpøbb med Flatlusa spelemannslag
LOCATION:Kaffistova, kjellaren
DESCRIPTION:Gratis inngang.
END:VEVENT




BEGIN:VEVENT
UID:pobb-2024-05@oslobygda.no
DTSTAMP:20260326T165343Z
DTSTART;TZID=Europe/Oslo:20240529T210000
DTEND;TZID=Europe/Oslo:20240529T234500
SUMMARY:Folkemusikkpøbb med belg-kveld!
LOCATION:Kaffistova, kjellaren
DESCRIPTION:Gratis inngang. Amalie Kinsarvik Tvilde m.fl.
END:VEVENT




BEGIN:VEVENT
UID:pobb-2024-06@oslobygda.no
DTSTAMP:20260326T165343Z
DTSTART;TZID=Europe/Oslo:20240828T210000
DTEND;TZID=Europe/Oslo:20240828T234500
SUMMARY:Folkemusikkpøbb med Flatlusa spelemannslag
LOCATION:Kaffistova, kjellaren
DESCRIPTION:Gratis inngang.
END:VEVENT




BEGIN:VEVENT
UID:pobb-2024-07@oslobygda.no
DTSTAMP:20260326T165343Z
DTSTART;TZID=Europe/Oslo:20240925T210000
DTEND;TZID=Europe/Oslo:20240925T234500
SUMMARY:Langeleikpøbb med Ingrid Lingaas Fossum m.fl.
LOCATION:Kaffistova, kjellaren
DESCRIPTION:Gratis inngang.
END:VEVENT




BEGIN:VEVENT
UID:pobb-2024-08@oslobygda.no
DTSTAMP:20260326T165343Z
DTSTART;TZID=Europe/Oslo:20241030T210000
DTEND;TZID=Europe/Oslo:20241030T234500
SUMMARY:Folkemusikkpøbb med Gudåmleg
LOCATION:Kaffistova, kjellaren
DESCRIPTION:Gratis inngang.
END:VEVENT




BEGIN:VEVENT
UID:pobb-2024-09@oslobygda.no
DTSTAMP:20260326T165343Z
DTSTART;TZID=Europe/Oslo:20241113T210000
DTEND;TZID=Europe/Oslo:20241113T234500
SUMMARY:Folkemusikkpøbb med Åretak
LOCATION:Kaffistova, kjellaren
DESCRIPTION:Gratis inngang.
END:VEVENT




BEGIN:VEVENT
UID:pobb-2025-01@oslobygda.no
DTSTAMP:20260326T165343Z
DTSTART;TZID=Europe/Oslo:20250129T210000
DTEND;TZID=Europe/Oslo:20250129T234500
SUMMARY:Belgkveld og Folkemusikkpøbb med Amalie Kinsarvik Tvilde m.fl.
LOCATION:Kaffistova, kjellaren
DESCRIPTION:Gratis inngang. Del av festivalen DANS DANS DANS.
END:VEVENT




BEGIN:VEVENT
UID:pobb-2025-02@oslobygda.no
DTSTAMP:20260326T165343Z
DTSTART;TZID=Europe/Oslo:20250226T210000
DTEND;TZID=Europe/Oslo:20250226T234500
SUMMARY:Munnharpe-pøbb + kurs og konsert!
LOCATION:Kaffistova, kjellaren
DESCRIPTION:Gratis inngang. Samarbeid med Norsk munnharpeforum
END:VEVENT




BEGIN:VEVENT
UID:pobb-2025-03@oslobygda.no
DTSTAMP:20260326T165343Z
DTSTART;TZID=Europe/Oslo:20250326T210000
DTEND;TZID=Europe/Oslo:20250326T234500
SUMMARY:Folkemusikkpøbb med Gudåmleg
LOCATION:Kaffistova, kjellaren
DESCRIPTION:Gratis inngang.
END:VEVENT




BEGIN:VEVENT
UID:pobb-2025-04@oslobygda.no
DTSTAMP:20260326T165343Z
DTSTART;TZID=Europe/Oslo:20250423T210000
DTEND;TZID=Europe/Oslo:20250423T234500
SUMMARY:Folkemusikkpøbb med Flatlusa spelemannslag
LOCATION:Kaffistova, kjellaren
DESCRIPTION:Gratis inngang.
END:VEVENT




BEGIN:VEVENT
UID:pobb-2025-05@oslobygda.no
DTSTAMP:20260326T165343Z
DTSTART;TZID=Europe/Oslo:20250521T210000
DTEND;TZID=Europe/Oslo:20250521T234500
SUMMARY:Folkemusikkpøbb med NMH-studentar
LOCATION:Kaffistova, kjellaren
DESCRIPTION:Gratis inngang.
END:VEVENT




BEGIN:VEVENT
UID:pobb-2025-06@oslobygda.no
DTSTAMP:20260326T165343Z
DTSTART;TZID=Europe/Oslo:20250827T210000
DTEND;TZID=Europe/Oslo:20250827T234500
SUMMARY:Folkemusikkpøbb med Flatlusa spelemannslag
LOCATION:Kaffistova, kjellaren
DESCRIPTION:Gratis inngang.
END:VEVENT




BEGIN:VEVENT
UID:pobb-2025-07@oslobygda.no
DTSTAMP:20260326T165343Z
DTSTART;TZID=Europe/Oslo:20250924T210000
DTEND;TZID=Europe/Oslo:20250924T234500
SUMMARY:Folkemusikkpøbb med Åretak
LOCATION:Kaffistova, kjellaren
DESCRIPTION:Gratis inngang.
END:VEVENT




BEGIN:VEVENT
UID:pobb-2025-08@oslobygda.no
DTSTAMP:20260326T165343Z
DTSTART;TZID=Europe/Oslo:20251022T210000
DTEND;TZID=Europe/Oslo:20251022T234500
SUMMARY:Folkemusikkpøbb med Laffen
LOCATION:Kaffistova, kjellaren
DESCRIPTION:Gratis inngang.
END:VEVENT




BEGIN:VEVENT
UID:pobb-2025-09@oslobygda.no
DTSTAMP:20260326T165343Z
DTSTART;TZID=Europe/Oslo:20251112T210000
DTEND;TZID=Europe/Oslo:20251112T234500
SUMMARY:Folkemusikkpøbb med Thedens & Hauknes
LOCATION:Kaffistova, kjellaren
DESCRIPTION:Gratis inngang.
END:VEVENT




BEGIN:VEVENT
UID:pobb-2026-01@oslobygda.no
DTSTAMP:20260326T165343Z
DTSTART;TZID=Europe/Oslo:20260128T210000
DTEND;TZID=Europe/Oslo:20260128T234500
SUMMARY:Folkemusikkpøbb med Snaustrinda-veteranar
LOCATION:Kaffistova, kjellaren
DESCRIPTION:Gratis inngang. Del av festivalen DANS DANS DANS.
END:VEVENT




BEGIN:VEVENT
UID:pobb-2026-02@oslobygda.no
DTSTAMP:20260326T165343Z
DTSTART;TZID=Europe/Oslo:20260225T210000
DTEND;TZID=Europe/Oslo:20260225T234500
SUMMARY:Folkemusikkpøbb med Åretak
LOCATION:Kaffistova, kjellaren
DESCRIPTION:Gratis inngang.
END:VEVENT




BEGIN:VEVENT
UID:pobb-2026-03@oslobygda.no
DTSTAMP:20260326T165343Z
DTSTART;TZID=Europe/Oslo:20260325T210000
DTEND;TZID=Europe/Oslo:20260325T234500
SUMMARY:Svenske tilstander på Folkemusikkpøbben!
LOCATION:Kaffistova, kjellaren
DESCRIPTION:Gratis inngang.
END:VEVENT




BEGIN:VEVENT
UID:pobb-2026-04@oslobygda.no
DTSTAMP:20260326T165343Z
DTSTART;TZID=Europe/Oslo:20260429T210000
DTEND;TZID=Europe/Oslo:20260429T234500
SUMMARY:Folkemusikkpøbb med Flatlusa spelemannslag
LOCATION:Kaffistova, kjellaren
DESCRIPTION:Gratis inngang.
END:VEVENT




BEGIN:VEVENT
UID:pobb-2026-05@oslobygda.no
DTSTAMP:20260326T165343Z
DTSTART;TZID=Europe/Oslo:20260527T210000
DTEND;TZID=Europe/Oslo:20260527T234500
SUMMARY:Folkemusikkpøbb: Norsk-færøysk dansekveld
LOCATION:Kaffistova, kjellaren
DESCRIPTION:Gratis inngang. Ta med songrøysta di.
END:VEVENT

END:VCALENDAR